BEGIN:VCALENDAR
VERSION:2.0
PRODID:-//American GI Forum - ECPv6.15.20//NONSGML v1.0//EN
CALSCALE:GREGORIAN
METHOD:PUBLISH
X-WR-CALNAME:American GI Forum
X-ORIGINAL-URL:https://agifnationalus.org
X-WR-CALDESC:Events for American GI Forum
REFRESH-INTERVAL;VALUE=DURATION:PT1H
X-Robots-Tag:noindex
X-PUBLISHED-TTL:PT1H
BEGIN:VTIMEZONE
TZID:America/Los_Angeles
BEGIN:DAYLIGHT
TZOFFSETFROM:-0800
TZOFFSETTO:-0700
TZNAME:PDT
DTSTART:20250309T100000
END:DAYLIGHT
BEGIN:STANDARD
TZOFFSETFROM:-0700
TZOFFSETTO:-0800
TZNAME:PST
DTSTART:20251102T090000
END:STANDARD
BEGIN:DAYLIGHT
TZOFFSETFROM:-0800
TZOFFSETTO:-0700
TZNAME:PDT
DTSTART:20260308T100000
END:DAYLIGHT
BEGIN:STANDARD
TZOFFSETFROM:-0700
TZOFFSETTO:-0800
TZNAME:PST
DTSTART:20261101T090000
END:STANDARD
BEGIN:DAYLIGHT
TZOFFSETFROM:-0800
TZOFFSETTO:-0700
TZNAME:PDT
DTSTART:20270314T100000
END:DAYLIGHT
BEGIN:STANDARD
TZOFFSETFROM:-0700
TZOFFSETTO:-0800
TZNAME:PST
DTSTART:20271107T090000
END:STANDARD
END:VTIMEZONE
BEGIN:VTIMEZONE
TZID:America/Chicago
BEGIN:DAYLIGHT
TZOFFSETFROM:-0600
TZOFFSETTO:-0500
TZNAME:CDT
DTSTART:20240310T080000
END:DAYLIGHT
BEGIN:STANDARD
TZOFFSETFROM:-0500
TZOFFSETTO:-0600
TZNAME:CST
DTSTART:20241103T070000
END:STANDARD
BEGIN:DAYLIGHT
TZOFFSETFROM:-0600
TZOFFSETTO:-0500
TZNAME:CDT
DTSTART:20250309T080000
END:DAYLIGHT
BEGIN:STANDARD
TZOFFSETFROM:-0500
TZOFFSETTO:-0600
TZNAME:CST
DTSTART:20251102T070000
END:STANDARD
BEGIN:DAYLIGHT
TZOFFSETFROM:-0600
TZOFFSETTO:-0500
TZNAME:CDT
DTSTART:20260308T080000
END:DAYLIGHT
BEGIN:STANDARD
TZOFFSETFROM:-0500
TZOFFSETTO:-0600
TZNAME:CST
DTSTART:20261101T070000
END:STANDARD
END:VTIMEZONE
BEGIN:VEVENT
DTSTART;TZID=America/Los_Angeles:20260314T070000
DTEND;TZID=America/Los_Angeles:20260314T170000
DTSTAMP:20260423T152728
CREATED:20260212T061547Z
LAST-MODIFIED:20260212T062510Z
UID:10000021-1773471600-1773507600@agifnationalus.org
SUMMARY:American GI Forum of The United States  "Mid-Year Conference"
DESCRIPTION:
URL:https://agifnationalus.org/event/american-gi-forum-of-the-united-states-mid-year-conference/
END:VEVENT
BEGIN:VEVENT
DTSTART;TZID=America/Chicago:20251214T100000
DTEND;TZID=America/Chicago:20251214T140000
DTSTAMP:20260423T152728
CREATED:20251205T190016Z
LAST-MODIFIED:20251205T192144Z
UID:10000019-1765706400-1765720800@agifnationalus.org
SUMMARY:Miguel Hernandez Jr Chapter's Poncho Claus Event
DESCRIPTION:
URL:https://agifnationalus.org/event/miguel-hernandez-chapters-poncho-claus-event/
LOCATION:Poncho Claus\, Saint Francis Parish\, 6710 San Jose Drive\, San Antonio Texas
END:VEVENT
BEGIN:VEVENT
DTSTART;TZID=America/Chicago:20251211T100000
DTEND;TZID=America/Chicago:20251211T140000
DTSTAMP:20260423T152728
CREATED:20251205T193015Z
LAST-MODIFIED:20251205T193015Z
UID:10000020-1765447200-1765461600@agifnationalus.org
SUMMARY:Winter Wonderland for Veterans
DESCRIPTION:
URL:https://agifnationalus.org/event/winter-wonderland-for-veterans/
LOCATION:Winter Wonderland for Veterans\, American Legion Alamo\, 3815 Fredericksburg\, San Antonio Texas
END:VEVENT
BEGIN:VEVENT
DTSTART;TZID=America/Chicago:20250727T170000
DTEND;TZID=America/Chicago:20250727T233000
DTSTAMP:20260423T152728
CREATED:20250507T033019Z
LAST-MODIFIED:20250507T033105Z
UID:10000018-1753635600-1753659000@agifnationalus.org
SUMMARY:National Board of Directors Meeting in San Antonio\, Texas
DESCRIPTION:
URL:https://agifnationalus.org/event/national-board-of-directors-meeting-in-san-antonio-texas/
END:VEVENT
BEGIN:VEVENT
DTSTART;TZID=America/Chicago:20250708T163000
DTEND;TZID=America/Chicago:20250708T180000
DTSTAMP:20260423T152728
CREATED:20250507T032447Z
LAST-MODIFIED:20250521T023713Z
UID:10000013-1751992200-1751997600@agifnationalus.org
SUMMARY:Board of Directors Meeting
DESCRIPTION:
URL:https://agifnationalus.org/event/board-of-directors-meeting-2/
END:VEVENT
BEGIN:VEVENT
DTSTART;TZID=America/Chicago:20250610T163000
DTEND;TZID=America/Chicago:20250610T180000
DTSTAMP:20260423T152728
CREATED:20250507T032236Z
LAST-MODIFIED:20250521T023752Z
UID:10000009-1749573000-1749578400@agifnationalus.org
SUMMARY:Executive Board Meeting
DESCRIPTION:
URL:https://agifnationalus.org/event/executive-board-meeting/
END:VEVENT
BEGIN:VEVENT
DTSTART;TZID=America/Chicago:20250521T163000
DTEND;TZID=America/Chicago:20250521T180000
DTSTAMP:20260423T152728
CREATED:20250507T032041Z
LAST-MODIFIED:20250521T023836Z
UID:10000006-1747845000-1747850400@agifnationalus.org
SUMMARY:Special Meeting
DESCRIPTION:
URL:https://agifnationalus.org/event/special-meeting/
END:VEVENT
BEGIN:VEVENT
DTSTART;TZID=America/Chicago:20250513T163000
DTEND;TZID=America/Chicago:20250513T180000
DTSTAMP:20260423T152728
CREATED:20250507T031544Z
LAST-MODIFIED:20250521T023511Z
UID:10000001-1747153800-1747159200@agifnationalus.org
SUMMARY:Board of Directors Meeting
DESCRIPTION:
URL:https://agifnationalus.org/event/board-of-directors-meeting/
END:VEVENT
END:VCALENDAR